BEGIN:VCALENDAR
VERSION:2.0
PRODID:-//Lympne Parish Council//Meeting Calendar//EN
CALSCALE:GREGORIAN
METHOD:PUBLISH
BEGIN:VEVENT
UID:71063-20240508@lympneparishcouncil.gov.uk
DTSTAMP:20260421T122833Z
DTSTART;VALUE=DATE:20240508
DTEND;VALUE=DATE:20240509
SUMMARY:Annual Parish Council Meeting 8th May 2024
DESCRIPTION:Full Council Meeting\nView details: https://lympneparishcouncil.gov.uk/meetings/annual-parish-council-meeting-8th-may-2024/
URL:https://lympneparishcouncil.gov.uk/meetings/annual-parish-council-meeting-8th-may-2024/
END:VEVENT
END:VCALENDAR
