BEGIN:VCALENDAR
VERSION:2.0
PRODID:-//Lympne Parish Council//Meeting Calendar//EN
CALSCALE:GREGORIAN
METHOD:PUBLISH
BEGIN:VEVENT
UID:71062-20240418@lympneparishcouncil.gov.uk
DTSTAMP:20260421T081826Z
DTSTART;VALUE=DATE:20240418
DTEND;VALUE=DATE:20240419
SUMMARY:Council Meeting 18th April 2024
DESCRIPTION:Full Council Meeting\nView details: https://lympneparishcouncil.gov.uk/meetings/council-meeting-3rd-april-2024/
URL:https://lympneparishcouncil.gov.uk/meetings/council-meeting-3rd-april-2024/
END:VEVENT
END:VCALENDAR
