BEGIN:VCALENDAR
VERSION:2.0
PRODID:-//Lympne Parish Council//Meeting Calendar//EN
CALSCALE:GREGORIAN
METHOD:PUBLISH
BEGIN:VEVENT
UID:70660-20190306@lympneparishcouncil.gov.uk
DTSTAMP:20260421T082602Z
DTSTART;VALUE=DATE:20190306
DTEND;VALUE=DATE:20190307
SUMMARY:Council Meeting &#8211\\; 6th March 2019
DESCRIPTION:Full Council Meeting\nView details: https://lympneparishcouncil.gov.uk/meetings/council-meeting-6th-march-2019/
URL:https://lympneparishcouncil.gov.uk/meetings/council-meeting-6th-march-2019/
END:VEVENT
END:VCALENDAR
