BEGIN:VCALENDAR
VERSION:2.0
PRODID:-//Lympne Parish Council//Meeting Calendar//EN
CALSCALE:GREGORIAN
METHOD:PUBLISH
BEGIN:VEVENT
UID:70658-20190102@lympneparishcouncil.gov.uk
DTSTAMP:20260421T081909Z
DTSTART;VALUE=DATE:20190102
DTEND;VALUE=DATE:20190103
SUMMARY:Council Meeting &#8211\\; 2nd January 2019
DESCRIPTION:Full Council Meeting\nView details: https://lympneparishcouncil.gov.uk/meetings/council-meeting-2nd-january-2019/
URL:https://lympneparishcouncil.gov.uk/meetings/council-meeting-2nd-january-2019/
END:VEVENT
END:VCALENDAR
