BEGIN:VCALENDAR
VERSION:2.0
PRODID:-//Lympne Parish Council//Meeting Calendar//EN
CALSCALE:GREGORIAN
METHOD:PUBLISH
BEGIN:VEVENT
UID:70628-20201104@lympneparishcouncil.gov.uk
DTSTAMP:20260425T122847Z
DTSTART;VALUE=DATE:20201104
DTEND;VALUE=DATE:20201105
SUMMARY:Council Meeting &#8211\\; 4th November 2020
DESCRIPTION:Full Council Meeting\nView details: https://lympneparishcouncil.gov.uk/meetings/council-meeting-4th-november-2020/
URL:https://lympneparishcouncil.gov.uk/meetings/council-meeting-4th-november-2020/
END:VEVENT
END:VCALENDAR
