BEGIN:VCALENDAR
VERSION:2.0
PRODID:-//Lympne Parish Council//Meeting Calendar//EN
CALSCALE:GREGORIAN
METHOD:PUBLISH
BEGIN:VEVENT
UID:70627-20201007@lympneparishcouncil.gov.uk
DTSTAMP:20260421T081949Z
DTSTART;VALUE=DATE:20201007
DTEND;VALUE=DATE:20201008
SUMMARY:Council Meeting &#8211\\; 7th October 2020
DESCRIPTION:Full Council Meeting\nView details: https://lympneparishcouncil.gov.uk/meetings/council-meeting-7th-october-2020/
URL:https://lympneparishcouncil.gov.uk/meetings/council-meeting-7th-october-2020/
END:VEVENT
END:VCALENDAR
