BEGIN:VCALENDAR
VERSION:2.0
PRODID:-//Lympne Parish Council//Meeting Calendar//EN
CALSCALE:GREGORIAN
METHOD:PUBLISH
BEGIN:VEVENT
UID:70579-20210708@lympneparishcouncil.gov.uk
DTSTAMP:20260421T082905Z
DTSTART;VALUE=DATE:20210708
DTEND;VALUE=DATE:20210709
SUMMARY:Council Meeting &#8211\\; 8th July 2021
DESCRIPTION:Full Council Meeting\nView details: https://lympneparishcouncil.gov.uk/meetings/council-meeting-8th-july-2021/
URL:https://lympneparishcouncil.gov.uk/meetings/council-meeting-8th-july-2021/
END:VEVENT
END:VCALENDAR
